BEGIN:VCALENDAR
VERSION:2.0
PRODID:-//Jewish Federation of St. Louis - ECPv6.15.20//NONSGML v1.0//EN
CALSCALE:GREGORIAN
METHOD:PUBLISH
X-WR-CALNAME:Jewish Federation of St. Louis
X-ORIGINAL-URL:https://www.jfedstl.org
X-WR-CALDESC:Events for Jewish Federation of St. Louis
REFRESH-INTERVAL;VALUE=DURATION:PT1H
X-Robots-Tag:noindex
X-PUBLISHED-TTL:PT1H
BEGIN:VTIMEZONE
TZID:America/Chicago
BEGIN:DAYLIGHT
TZOFFSETFROM:-0600
TZOFFSETTO:-0500
TZNAME:CDT
DTSTART:20240310T080000
END:DAYLIGHT
BEGIN:STANDARD
TZOFFSETFROM:-0500
TZOFFSETTO:-0600
TZNAME:CST
DTSTART:20241103T070000
END:STANDARD
BEGIN:DAYLIGHT
TZOFFSETFROM:-0600
TZOFFSETTO:-0500
TZNAME:CDT
DTSTART:20250309T080000
END:DAYLIGHT
BEGIN:STANDARD
TZOFFSETFROM:-0500
TZOFFSETTO:-0600
TZNAME:CST
DTSTART:20251102T070000
END:STANDARD
BEGIN:DAYLIGHT
TZOFFSETFROM:-0600
TZOFFSETTO:-0500
TZNAME:CDT
DTSTART:20260308T080000
END:DAYLIGHT
BEGIN:STANDARD
TZOFFSETFROM:-0500
TZOFFSETTO:-0600
TZNAME:CST
DTSTART:20261101T070000
END:STANDARD
BEGIN:DAYLIGHT
TZOFFSETFROM:-0600
TZOFFSETTO:-0500
TZNAME:CDT
DTSTART:20270314T080000
END:DAYLIGHT
BEGIN:STANDARD
TZOFFSETFROM:-0500
TZOFFSETTO:-0600
TZNAME:CST
DTSTART:20271107T070000
END:STANDARD
END:VTIMEZONE
BEGIN:VEVENT
DTSTART;TZID=America/Chicago:20260401T180000
DTEND;TZID=America/Chicago:20260401T203000
DTSTAMP:20260421T041959
CREATED:20260318T143201Z
LAST-MODIFIED:20260318T143202Z
UID:10002161-1775066400-1775075400@www.jfedstl.org
SUMMARY:First Night Seder
DESCRIPTION:Join us for our First Night Passover Seder. It’s designed for all ages\, led by UH Clergy\, and catered by Papa Mark Catering. Enjoy matzah ball soup\, gefilte fish\, brisket\, mashed potatoes\, roasted vegetables\, and dessert. Vegetarian/vegan options are available by request.This UH seder is like being with a large family. Please let us know if you would like to participate in reading\, helping to serve or even set-up and clean-up just like we do in our own homes. \n\n\n\nCost:Adults : $54 UH member / $65 non-memberChild (age 3-12): $30 UH member / $36 non-memberChildren under 3: free of charge
URL:https://www.jfedstl.org/event/first-night-seder/
LOCATION:United Hebrew Congregation\, 13788 Conway Rd.\, St. Louis\, 63141\, United States
CATEGORIES:Holidays
ATTACH;FMTTYPE=image/jpeg:https://www.jfedstl.org/wp-content/uploads/2026/03/First-Night-Seder-26-calendar.jpg
END:VEVENT
BEGIN:VEVENT
DTSTART;TZID=America/Chicago:20260228T200000
DTEND;TZID=America/Chicago:20260228T210000
DTSTAMP:20260421T041959
CREATED:20260216T010425Z
LAST-MODIFIED:20260216T010426Z
UID:10002041-1772308800-1772312400@www.jfedstl.org
SUMMARY:Singing In The Dark with Charlie Kramer
DESCRIPTION:An unforgettable experience of communal singing\, meditation\, and transformation. We all have something that challenges us. Charlie is blind with only 4% of his total vision remaining. He has no peripheral vision and is completely blind at night. Join us in a journey of the senses\, blindfolding ourselves to experience the present moment without our sight. Charlie will guide you through deeply feeling the challenges in your life\, guiding you to new perspectives through song\, prayer and meditation. This experience includes Havdalah. This residency is made possible through funds from the Helen C. Millstone Music Fund.
URL:https://www.jfedstl.org/event/singing-in-the-dark-with-charlie-kramer/
LOCATION:United Hebrew Congregation\, 13788 Conway Rd.\, St. Louis\, 63141\, United States
ATTACH;FMTTYPE=image/jpeg:https://www.jfedstl.org/wp-content/uploads/2026/02/Charlie-Kramer-Singing-In-The-Dark-Banner.jpg
END:VEVENT
BEGIN:VEVENT
DTSTART;TZID=America/Chicago:20260207T183000
DTEND;TZID=America/Chicago:20260207T220000
DTSTAMP:20260421T041959
CREATED:20250907T025852Z
LAST-MODIFIED:20250907T025854Z
UID:10000065-1770489000-1770501600@www.jfedstl.org
SUMMARY:Saul Mirowitz Jewish Community School Trivia Night
DESCRIPTION:Come play Trivia and support our 7th/8th grade Israel Trip.
URL:https://www.jfedstl.org/event/saul-mirowitz-jewish-community-school-trivia-night/
LOCATION:United Hebrew Congregation\, 13788 Conway Rd.\, St. Louis\, 63141\, United States
CATEGORIES:Community Calendar
ORGANIZER;CN="Saul Mirowitz Jewish Community School":MAILTO:anewstead@mirowitz.org
END:VEVENT
BEGIN:VEVENT
DTSTART;TZID=America/Chicago:20250824T113000
DTEND;TZID=America/Chicago:20250824T130000
DTSTAMP:20260421T041959
CREATED:20250820T181729Z
LAST-MODIFIED:20250908T002527Z
UID:10000506-1756035000-1756040400@www.jfedstl.org
SUMMARY:Welcome Back Potluck and Celebration
DESCRIPTION:Let’s welcome back the program year in style! Come enjoy food\, Bounce houses\, games & fun!  We will provide the hot dogs and ask you to bring either a side dish or dessert to share. \n\n\n\nThe Gift Shop will have a 20% off sale all items except for special orders and prayer books.
URL:https://www.jfedstl.org/event/welcome-back-potluck-and-celebration/
LOCATION:United Hebrew Congregation\, 13788 Conway Rd.\, St. Louis\, 63141\, United States
CATEGORIES:Community Calendar
ATTACH;FMTTYPE=image/jpeg:https://www.jfedstl.org/wp-content/uploads/2025/09/Welcome-Back-2025.jpg
END:VEVENT
END:VCALENDAR