BEGIN:VCALENDAR
VERSION:2.0
PRODID:-//Jewish Federation of St. Louis - ECPv6.15.20//NONSGML v1.0//EN
CALSCALE:GREGORIAN
METHOD:PUBLISH
X-ORIGINAL-URL:https://www.jfedstl.org
X-WR-CALDESC:Events for Jewish Federation of St. Louis
REFRESH-INTERVAL;VALUE=DURATION:PT1H
X-Robots-Tag:noindex
X-PUBLISHED-TTL:PT1H
BEGIN:VTIMEZONE
TZID:America/Chicago
BEGIN:DAYLIGHT
TZOFFSETFROM:-0600
TZOFFSETTO:-0500
TZNAME:CDT
DTSTART:20250309T080000
END:DAYLIGHT
BEGIN:STANDARD
TZOFFSETFROM:-0500
TZOFFSETTO:-0600
TZNAME:CST
DTSTART:20251102T070000
END:STANDARD
BEGIN:DAYLIGHT
TZOFFSETFROM:-0600
TZOFFSETTO:-0500
TZNAME:CDT
DTSTART:20260308T080000
END:DAYLIGHT
BEGIN:STANDARD
TZOFFSETFROM:-0500
TZOFFSETTO:-0600
TZNAME:CST
DTSTART:20261101T070000
END:STANDARD
BEGIN:DAYLIGHT
TZOFFSETFROM:-0600
TZOFFSETTO:-0500
TZNAME:CDT
DTSTART:20270314T080000
END:DAYLIGHT
BEGIN:STANDARD
TZOFFSETFROM:-0500
TZOFFSETTO:-0600
TZNAME:CST
DTSTART:20271107T070000
END:STANDARD
END:VTIMEZONE
BEGIN:VEVENT
DTSTART;TZID=America/Chicago:20260503T110000
DTEND;TZID=America/Chicago:20260503T140000
DTSTAMP:20260421T053928
CREATED:20260417T190730Z
LAST-MODIFIED:20260417T190731Z
UID:10002326-1777806000-1777816800@www.jfedstl.org
SUMMARY:Blood Drive
DESCRIPTION:We’re coming together to help save lives! For patients in need\, donated blood can change everything. Blood products are used to help people – our friends\, family\, neighbors\, and coworkers – as they treat cancer\, chronic diseases\, and traumatic injuries. And they are only possible with the help of volunteer blood donors. Tzedek Team has partnered with ImpactLife for a blood drive at Kol Rinah. Schedule your appointment to donate a unit of blood and save up to 3 lives! \n\n\n\nAppointments are required for all donors. Kosher snacks will be provided. Donors must be healthy\, weigh at least 110lbs\, and be 17 or older (16 with a signed parent/guardian consent). Please hydrate ahead of your appointment! \n\n\n\nPlease schedule your ImpactLife appointment to give blood and save lives at the Kol Rinah Blood Drive.
URL:https://www.jfedstl.org/event/blood-drive/
LOCATION:Kol Rinah\, 7701 Maryland Avenue\, Clayton\, 63105\, United States
CATEGORIES:Community Calendar
ATTACH;FMTTYPE=image/jpeg:https://www.jfedstl.org/wp-content/uploads/2026/04/FedCal-2026-BloodDrive-May-scaled.jpg
END:VEVENT
BEGIN:VEVENT
DTSTART;TZID=America/Chicago:20260506T140000
DTEND;TZID=America/Chicago:20260506T153000
DTSTAMP:20260421T053928
CREATED:20260326T161707Z
LAST-MODIFIED:20260326T161708Z
UID:10002264-1778076000-1778081400@www.jfedstl.org
SUMMARY:Docent from Opera Theater of St. Louis to speak on the Pirates of Penzance
DESCRIPTION:Plan to join us on Wednesday\, May 6\, at 2pm at Kol Rinah for a theatre docent program from Opera Theatre of St. Louis who will talk to us about the upcoming opera production of The Pirates of Penzance in their summer season. \n\n\n\nAll are welcome.Any questions\, call the office.There is no charge for the program.RSVP is not required but would be helpful.
URL:https://www.jfedstl.org/event/docent-from-opera-theater-of-st-louis-to-speak-on-the-pirates-of-penzance/
LOCATION:Kol Rinah\, 7701 Maryland Avenue\, Clayton\, 63105\, United States
CATEGORIES:Community Calendar
ATTACH;FMTTYPE=image/jpeg:https://www.jfedstl.org/wp-content/uploads/2026/03/FedCal-2026-DocentPirates-May6-scaled.jpg
END:VEVENT
BEGIN:VEVENT
DTSTART;TZID=America/Chicago:20260517T150000
DTEND;TZID=America/Chicago:20260517T170000
DTSTAMP:20260421T053928
CREATED:20260316T200043Z
LAST-MODIFIED:20260417T171758Z
UID:10002157-1779030000-1779037200@www.jfedstl.org
SUMMARY:No Shame: Mental Health & Freedom from Substances in an Old – New Way
DESCRIPTION:Rabbis Susan Talve and James Stone Goodman discuss the life-saving strategies they have practiced in the realms of mental health and substance abuse\, with a focus on teaching resources for relieving suffering. They will be joined by others in our community working the front lines. \n\n\n\nOpen to the communityIn-person at Kol Rinah • RSVP Required \n\n\n\nSponsored by Kol Rinah Chesed Committee
URL:https://www.jfedstl.org/event/no-shame-mental-health-freedom-from-substances-in-an-old-new-way/
LOCATION:Kol Rinah\, 7701 Maryland Avenue\, Clayton\, 63105\, United States
CATEGORIES:Community Calendar
ATTACH;FMTTYPE=image/jpeg:https://www.jfedstl.org/wp-content/uploads/2026/03/FedCal-2026-NoShame-May17-scaled.jpg
END:VEVENT
BEGIN:VEVENT
DTSTART;TZID=America/Chicago:20260531T160000
DTEND;TZID=America/Chicago:20260531T170000
DTSTAMP:20260421T053928
CREATED:20260326T161814Z
LAST-MODIFIED:20260326T161815Z
UID:10002263-1780243200-1780246800@www.jfedstl.org
SUMMARY:Is Man Capable of Solving Problems Peacefully?
DESCRIPTION:A program on man’s ability to alter their paradigms and replace their warlike behavior with peaceful solutions.Wars have followed Israel’s creation\, with adversaries changing but ever present. Can the civic or religious paradigms of the principals change such that differences can be obtained peacefully?This Program will NOT include assignment of blame.
URL:https://www.jfedstl.org/event/is-man-capable-of-solving-problems-peacefully/
LOCATION:Kol Rinah\, 7701 Maryland Avenue\, Clayton\, 63105\, United States
CATEGORIES:Community Calendar
ATTACH;FMTTYPE=image/jpeg:https://www.jfedstl.org/wp-content/uploads/2026/03/FedCal-2026-PeacefulSolutions-scaled.jpg
END:VEVENT
END:VCALENDAR