BEGIN:VCALENDAR
VERSION:2.0
PRODID:-//Jewish Federation of St. Louis - ECPv6.15.20//NONSGML v1.0//EN
CALSCALE:GREGORIAN
METHOD:PUBLISH
X-WR-CALNAME:Jewish Federation of St. Louis
X-ORIGINAL-URL:https://www.jfedstl.org
X-WR-CALDESC:Events for Jewish Federation of St. Louis
REFRESH-INTERVAL;VALUE=DURATION:PT1H
X-Robots-Tag:noindex
X-PUBLISHED-TTL:PT1H
BEGIN:VTIMEZONE
TZID:America/Chicago
BEGIN:DAYLIGHT
TZOFFSETFROM:-0600
TZOFFSETTO:-0500
TZNAME:CDT
DTSTART:20250309T080000
END:DAYLIGHT
BEGIN:STANDARD
TZOFFSETFROM:-0500
TZOFFSETTO:-0600
TZNAME:CST
DTSTART:20251102T070000
END:STANDARD
BEGIN:DAYLIGHT
TZOFFSETFROM:-0600
TZOFFSETTO:-0500
TZNAME:CDT
DTSTART:20260308T080000
END:DAYLIGHT
BEGIN:STANDARD
TZOFFSETFROM:-0500
TZOFFSETTO:-0600
TZNAME:CST
DTSTART:20261101T070000
END:STANDARD
BEGIN:DAYLIGHT
TZOFFSETFROM:-0600
TZOFFSETTO:-0500
TZNAME:CDT
DTSTART:20270314T080000
END:DAYLIGHT
BEGIN:STANDARD
TZOFFSETFROM:-0500
TZOFFSETTO:-0600
TZNAME:CST
DTSTART:20271107T070000
END:STANDARD
END:VTIMEZONE
BEGIN:VEVENT
DTSTART;TZID=America/Chicago:20260201T184500
DTEND;TZID=America/Chicago:20260201T210000
DTSTAMP:20260421T042030
CREATED:20251103T163109Z
LAST-MODIFIED:20251223T144531Z
UID:10001139-1769971500-1769979600@www.jfedstl.org
SUMMARY:Batya X United Hatzalah Tu' Bshvat Celebration: Bloom & Rise
DESCRIPTION:Save the date for a Ladies Tu’ Bshvat Celebration benefiting United Hatzalah. We will roll up our sleeves\, bake babka\, and give back to our community. \n \n\n \nDoors open – 6:45 pm\nProgram starts – 7:15pm \n \n\n \nTo honor Tu B’Shvat\, the holiday of growth and renewal\, we are thrilled to welcome Mandylicious for a hands-on babka-making experience. There is something deeply meaningful about women coming together to create\, nourish\, and celebrate life at a time when healing and unity are so needed. \n \n\n \nWe will learn from Hadas about rebuilding lives after trauma\, Mandy will guide us in creating something beautiful and delicious\, reminding us that even in challenging seasons\, we can plant new seeds of hope. \n \n\n \nThis is a truly unique evening of connection and purpose. You will not want to miss it. \n \n\n \nMandy Silverman\nMandylicious \n \nMandy Silverman\, known around the world as Mandylicious\, has been turning challah and babka into a celebration of flavor and joy for more than a decade. With over 600 inventive creations and her upbeat\, welcoming style\, she has inspired home bakers across the globe – both in her classes and through her vibrant Instagram community – to embrace the magic of making delicious carbs. Based in Sharon\, Massachusetts\, her first cookbook is coming out in the fall of 2026. \n \n\n \nHadas Rucham\nClinical Director\, United Hatzalah Psychotrauma Unit \n \nHadas Rucham\, EMT\, social worker\, and clinical director of United Hatzalah’s Psychotrauma Unit\, will share her frontline experiences responding to some of the most devastating crises of our time: local Iranian missile attacks\, the Tree of Life Synagogue shooting\, the Surfside building collapse\, the Ukraine war\, Hurricane Ian\, and more. Hadas will offer a rare\, inside look at how our psychotrauma medics help victims find strength and resilience in the darkest moments.
URL:https://www.jfedstl.org/event/batya-x-united-hatzalah-chanukah-babka-bake-featuring-mandylicious/
LOCATION:The Gallery at The District\, 17057 N Outer 40 Rd.\, Chesterfield\, Missouri\, 63005\, United States
ATTACH;FMTTYPE=image/png:https://www.jfedstl.org/wp-content/uploads/2025/11/image.png
ORGANIZER;CN="United Hatzalah":MAILTO:beccan@israelrescue.org
END:VEVENT
END:VCALENDAR