BEGIN:VCALENDAR
VERSION:2.0
PRODID:-//Jewish Federation of St. Louis - ECPv6.15.20//NONSGML v1.0//EN
CALSCALE:GREGORIAN
METHOD:PUBLISH
X-ORIGINAL-URL:https://www.jfedstl.org
X-WR-CALDESC:Events for Jewish Federation of St. Louis
REFRESH-INTERVAL;VALUE=DURATION:PT1H
X-Robots-Tag:noindex
X-PUBLISHED-TTL:PT1H
BEGIN:VTIMEZONE
TZID:America/Chicago
BEGIN:DAYLIGHT
TZOFFSETFROM:-0600
TZOFFSETTO:-0500
TZNAME:CDT
DTSTART:20240310T080000
END:DAYLIGHT
BEGIN:STANDARD
TZOFFSETFROM:-0500
TZOFFSETTO:-0600
TZNAME:CST
DTSTART:20241103T070000
END:STANDARD
BEGIN:DAYLIGHT
TZOFFSETFROM:-0600
TZOFFSETTO:-0500
TZNAME:CDT
DTSTART:20250309T080000
END:DAYLIGHT
BEGIN:STANDARD
TZOFFSETFROM:-0500
TZOFFSETTO:-0600
TZNAME:CST
DTSTART:20251102T070000
END:STANDARD
BEGIN:DAYLIGHT
TZOFFSETFROM:-0600
TZOFFSETTO:-0500
TZNAME:CDT
DTSTART:20260308T080000
END:DAYLIGHT
BEGIN:STANDARD
TZOFFSETFROM:-0500
TZOFFSETTO:-0600
TZNAME:CST
DTSTART:20261101T070000
END:STANDARD
BEGIN:DAYLIGHT
TZOFFSETFROM:-0600
TZOFFSETTO:-0500
TZNAME:CDT
DTSTART:20270314T080000
END:DAYLIGHT
BEGIN:STANDARD
TZOFFSETFROM:-0500
TZOFFSETTO:-0600
TZNAME:CST
DTSTART:20271107T070000
END:STANDARD
END:VTIMEZONE
BEGIN:VEVENT
DTSTART;TZID=America/Chicago:20260312T100000
DTEND;TZID=America/Chicago:20260312T130000
DTSTAMP:20260421T042812
CREATED:20260313T113703Z
LAST-MODIFIED:20260313T113704Z
UID:10002156-1773309600-1773320400@www.jfedstl.org
SUMMARY:Brunch With MO Rep. George Hruza
DESCRIPTION:Rep. Hruza will discuss his background as a child of Holocaust survivors growing up in the Soviet Block\, his sponsorship of the current Antisemitism Bill working its way through the Legislature now\, and how we can help. Followed by a delicious strictly kosher brunch made in the NHBZ kitchen.
URL:https://www.jfedstl.org/event/brunch-with-mo-rep-george-hruza/
LOCATION:Nusach Hari\, 650 N. Price Rd\, Olivette\, 63132\, United States
ORGANIZER;CN="Nusach Hari B'nai Zion":MAILTO:office@nhbz.org
END:VEVENT
BEGIN:VEVENT
DTSTART;TZID=America/Chicago:20260215T153000
DTEND;TZID=America/Chicago:20260215T173000
DTSTAMP:20260421T042812
CREATED:20260110T161853Z
LAST-MODIFIED:20260110T161854Z
UID:10001894-1771169400-1771176600@www.jfedstl.org
SUMMARY:Film Screening of "The Road Between Us"
DESCRIPTION:St. Louis Friends of Israel and Nusach Hari B’nai Zion bring you screening of the film\, “The Road Between Us.” This film is a gripping story of an extraordinary rescue and an unflinching look at the failures and resilience revealed on October 7. \n\n\n\nBrief film discussion to follow. Security provided. Refreshments provided.
URL:https://www.jfedstl.org/event/film-screening-of-the-road-between-us/
LOCATION:Nusach Hari\, 650 N. Price Rd\, Olivette\, 63132\, United States
END:VEVENT
BEGIN:VEVENT
DTSTART;TZID=America/Chicago:20251221T103000
DTEND;TZID=America/Chicago:20251221T120000
DTSTAMP:20260421T042812
CREATED:20251202T203225Z
LAST-MODIFIED:20251202T203226Z
UID:10001452-1766313000-1766318400@www.jfedstl.org
SUMMARY:Nusach Hari Chanukah Mania
DESCRIPTION:Join us for a Chanukah party with food\, games\, stories and crafts. All ages are welcome. Please RSVP!
URL:https://www.jfedstl.org/event/nusach-hari-chanukah-mania/
LOCATION:Nusach Hari\, 650 N. Price Rd\, Olivette\, 63132\, United States
CATEGORIES:Community Calendar
ATTACH;FMTTYPE=image/jpeg:https://www.jfedstl.org/wp-content/uploads/2025/12/4777a9ea-15e8-4e6d-b320-7eb5ed6f6412.jpeg
ORGANIZER;CN="Nusach Hari B'nai Zion":MAILTO:office@nhbz.org
END:VEVENT
BEGIN:VEVENT
DTSTART;TZID=America/Chicago:20251210T191500
DTEND;TZID=America/Chicago:20251210T220000
DTSTAMP:20260421T042812
CREATED:20250907T044651Z
LAST-MODIFIED:20251121T180419Z
UID:10000349-1765394100-1765404000@www.jfedstl.org
SUMMARY:NHBZ 120th Anniversary Event
DESCRIPTION:Join us for a Dessert Reception as we celebrate our first 120 years and welcome our new spiritual leader Rabbi Aron Rubin and Family and thank our HONOREES for their dedication and support to NHBZ.
URL:https://www.jfedstl.org/event/nhbz-120th-anniversary-event/
CATEGORIES:Community Calendar
ATTACH;FMTTYPE=image/png:https://www.jfedstl.org/wp-content/uploads/2025/09/image-2-scaled.png
ORGANIZER;CN="Nusach Hari B'nai Zion":MAILTO:office@nhbz.org
END:VEVENT
BEGIN:VEVENT
DTSTART;TZID=America/Chicago:20251130T170000
DTEND;TZID=America/Chicago:20251130T190000
DTSTAMP:20260421T042812
CREATED:20251113T201430Z
LAST-MODIFIED:20251113T201430Z
UID:10001339-1764522000-1764529200@www.jfedstl.org
SUMMARY:Nusach Hari Pizza Night
DESCRIPTION:Come enjoy a kosher buffet of salad\, pizza and pasta.
URL:https://www.jfedstl.org/event/nusach-hari-pizza-night/
LOCATION:Nusach Hari\, 650 N. Price Rd\, Olivette\, 63132\, United States
CATEGORIES:Community Calendar
ATTACH;FMTTYPE=image/jpeg:https://www.jfedstl.org/wp-content/uploads/2025/11/780a9f74-1250-42de-adc2-8652cdec8f0e.jpeg
ORGANIZER;CN="Nusach Hari B'nai Zion":MAILTO:office@nhbz.org
END:VEVENT
BEGIN:VEVENT
DTSTART;TZID=America/Chicago:20251122T183000
DTEND;TZID=America/Chicago:20251122T210000
DTSTAMP:20260421T042812
CREATED:20251112T141715Z
LAST-MODIFIED:20251112T141716Z
UID:10001334-1763836200-1763845200@www.jfedstl.org
SUMMARY:Nusach Hari Melava Malka
DESCRIPTION:After Shabbos\, join us at Nusach Hari for an evening bonfire! We are firing up the pizza oven\, will have soup and other snacks. Come roast marshmallows while listening to music and talking with new and old friends. Everyone is welcome!
URL:https://www.jfedstl.org/event/nusach-hari-melava-malka/
LOCATION:Nusach Hari\, 650 N. Price Rd\, Olivette\, 63132\, United States
CATEGORIES:Community Calendar
ATTACH;FMTTYPE=image/png:https://www.jfedstl.org/wp-content/uploads/2025/11/IMG_2426.png
ORGANIZER;CN="Nusach Hari B'nai Zion":MAILTO:office@nhbz.org
END:VEVENT
BEGIN:VEVENT
DTSTART;TZID=America/Chicago:20251009T190000
DTEND;TZID=America/Chicago:20251009T210000
DTSTAMP:20260421T042812
CREATED:20251001T013802Z
LAST-MODIFIED:20251021T205802Z
UID:10001026-1760036400-1760043600@www.jfedstl.org
SUMMARY:Sliders in the Sukkah
DESCRIPTION:Men’s Only Event
URL:https://www.jfedstl.org/event/sliders-in-the-sukkah/
LOCATION:Nusach Hari\, 650 N. Price Rd\, Olivette\, 63132\, United States
CATEGORIES:Community Calendar
ATTACH;FMTTYPE=image/jpeg:https://www.jfedstl.org/wp-content/uploads/2025/10/Flyer-Join-Us-for-Sliders-in-the-Sukkah-1.jpg
END:VEVENT
BEGIN:VEVENT
DTSTART;TZID=America/Chicago:20250914T160000
DTEND;TZID=America/Chicago:20250914T190000
DTSTAMP:20260421T042812
CREATED:20250718T182804Z
LAST-MODIFIED:20250908T040528Z
UID:10000888-1757865600-1757876400@www.jfedstl.org
SUMMARY:NHBZ Picnic
DESCRIPTION:Gather your friends\, family\, and loved ones for a delightful day filled with laughter\, delicious food\, and the beauty of the great outdoors! \n\n\n\nMake sure to bring your appetite as there will be hamburger ($5)\, veggie burger ($5)\, and hot dog ($3) plates for sale and free snow cones to keep you cool in the St. Louis heat! \n\n\n\nKids Activities | Car Show | BBQ \n\n\n\nLOCATION: NHBZ PARKING LOT (650 N. Price Rd) \n\n\n\nDATE: SUNDAY\, SEPTEMBER 14\, 2025 \n\n\n\nTIME: 4-7PM
URL:https://www.jfedstl.org/event/nhbz-picnic/
LOCATION:Nusach Hari\, 650 N. Price Rd\, Olivette\, 63132\, United States
CATEGORIES:Community Calendar
ATTACH;FMTTYPE=image/jpeg:https://www.jfedstl.org/wp-content/uploads/2025/09/in-the-Lot-3.jpg
END:VEVENT
BEGIN:VEVENT
DTSTART;TZID=America/Chicago:20250808T000000
DTEND;TZID=America/Chicago:20250809T235959
DTSTAMP:20260421T042812
CREATED:20250722T210459Z
LAST-MODIFIED:20250907T235424Z
UID:10000429-1754611200-1754783999@www.jfedstl.org
SUMMARY:The Ari Shabbat
DESCRIPTION:Please join us as we commemorate the Yahrtzeit of Isaac Luria\, “The Holy Ari\,” Founder of Modern Kabbalah and Author of “Nusach H’Ari” \n\n\n\n  \n\n\n\nSign up for the dinner here https://forms.gle/GddShnv2kCemVJ126
URL:https://www.jfedstl.org/event/the-ari-shabbat/
LOCATION:Nusach Hari\, 650 N. Price Rd\, Olivette\, 63132\, United States
CATEGORIES:Community Calendar
ATTACH;FMTTYPE=image/jpeg:https://www.jfedstl.org/wp-content/uploads/2025/09/The-Ari-Shabbos-3.jpg
END:VEVENT
END:VCALENDAR