BEGIN:VCALENDAR
VERSION:2.0
PRODID:-//Jewish Federation of St. Louis - ECPv6.15.20//NONSGML v1.0//EN
CALSCALE:GREGORIAN
METHOD:PUBLISH
X-ORIGINAL-URL:https://www.jfedstl.org
X-WR-CALDESC:Events for Jewish Federation of St. Louis
REFRESH-INTERVAL;VALUE=DURATION:PT1H
X-Robots-Tag:noindex
X-PUBLISHED-TTL:PT1H
BEGIN:VTIMEZONE
TZID:America/Chicago
BEGIN:DAYLIGHT
TZOFFSETFROM:-0600
TZOFFSETTO:-0500
TZNAME:CDT
DTSTART:20240310T080000
END:DAYLIGHT
BEGIN:STANDARD
TZOFFSETFROM:-0500
TZOFFSETTO:-0600
TZNAME:CST
DTSTART:20241103T070000
END:STANDARD
BEGIN:DAYLIGHT
TZOFFSETFROM:-0600
TZOFFSETTO:-0500
TZNAME:CDT
DTSTART:20250309T080000
END:DAYLIGHT
BEGIN:STANDARD
TZOFFSETFROM:-0500
TZOFFSETTO:-0600
TZNAME:CST
DTSTART:20251102T070000
END:STANDARD
BEGIN:DAYLIGHT
TZOFFSETFROM:-0600
TZOFFSETTO:-0500
TZNAME:CDT
DTSTART:20260308T080000
END:DAYLIGHT
BEGIN:STANDARD
TZOFFSETFROM:-0500
TZOFFSETTO:-0600
TZNAME:CST
DTSTART:20261101T070000
END:STANDARD
END:VTIMEZONE
BEGIN:VEVENT
DTSTART;TZID=America/Chicago:20251223T100000
DTEND;TZID=America/Chicago:20251223T110000
DTSTAMP:20260425T160121
CREATED:20251124T145926Z
LAST-MODIFIED:20251124T150042Z
UID:10001409-1766484000-1766487600@www.jfedstl.org
SUMMARY:Hazak - Grief Group December 2025
DESCRIPTION:Tuesdays in December\, beginning December 2 \n\n\n\nJoin Jay Winig\, LCSW\, and Rabbi Skoff for a grief support group\, open to all members of the community who have suffered a loss\, and geared towards age 60+. We will be meeting 10:00 – 11:00 am on each of the 5 Tuesdays in December\, beginning December 2. \n\n\n\nParticipation is free\, and you are welcome to attend one or all sessions. \n\n\n\nClick here to learn more about Jay Winig’s counseling practice: https://www.winigcounseling.com/about-jay.html \n\n\n\nContact Rabbi Skoff if you have any questions. \n\n\n\nFor registration assistance\, contact Joshua Soto at 314-576-9990 x142 or at joshua@bnaiamoona.com. \n\n\n\nRSVP here: https://www.bnaiamoona.com/form/hazak-grief-group \n\n\n\nHazak is supported by a grant from Women’s Auxiliary Foundation for Jewish Aged & the JCA Charitable Foundation
URL:https://www.jfedstl.org/event/hazak-grief-group-december-2025/2025-12-23/
LOCATION:Congregation B’nai Amoona\, 324 S. Mason Road\, St. Louis\, MO
ATTACH;FMTTYPE=image/png:https://www.jfedstl.org/wp-content/uploads/2025/11/unnamed-10-1.png
ORGANIZER;CN="B'nai Amoona":MAILTO:sam@bnaiamoona.com
END:VEVENT
BEGIN:VEVENT
DTSTART;TZID=America/Chicago:20251221T150000
DTEND;TZID=America/Chicago:20251221T170000
DTSTAMP:20260425T160121
CREATED:20251114T154646Z
LAST-MODIFIED:20251114T154647Z
UID:10001346-1766329200-1766336400@www.jfedstl.org
SUMMARY:Donuts & Dreidels
DESCRIPTION:Donuts for all\, big and small! Join us for an exciting celebration of Hanukkah at Duck Donuts! Enjoy FREE donuts\, coffee\, hot chocolate\, dreidel games\, and more Hanukkah fun! The Hanukkiah lighting will be at 4:45pm.
URL:https://www.jfedstl.org/event/donuts-dreidels/
LOCATION:Duck Donuts\, 1651 Clarkson Road\, Chesterfield\, MO 63017\, 1651 Clarkson Road\, Chesterfield\, MO\, 63017\, United States
ATTACH;FMTTYPE=image/png:https://www.jfedstl.org/wp-content/uploads/2025/11/unnamed-8.png
ORGANIZER;CN="B'nai Amoona":MAILTO:sam@bnaiamoona.com
END:VEVENT
BEGIN:VEVENT
DTSTART;TZID=America/Chicago:20251220T114500
DTEND;TZID=America/Chicago:20251220T130000
DTSTAMP:20260425T160121
CREATED:20251202T203901Z
LAST-MODIFIED:20251202T203901Z
UID:10001455-1766231100-1766235600@www.jfedstl.org
SUMMARY:Pop-Up Lunch & Learn:  Reflections from an Incredible Trip to Israel with Momentum
DESCRIPTION:Join us for a special Pop-Up Lunch & Learn as members of our B’nai Amoona community share reflections from an incredible trip to Israel with Momentum.\n\nHear personal stories\, meaningful moments\, and inspiring takeaways from Janet Amitin-Roberts\, Plia Cohn\, Heather Miederhoff\, and Michelle Reiser as they bring their experience in Israel back home to us.\n\nThis program will take place Shabbat morning\, December 20\, 2025\, after services (approximately 11:45 AM) in the located in the Krupat-Oberman Community Room at B’nai Amoona. Get your Kiddush lunch\, grab a seat\, and enjoy learning together\, no sign-up is needed. All are welcome!
URL:https://www.jfedstl.org/event/pop-up-lunch-learn-reflections-from-an-incredible-trip-to-israel-with-momentum/
LOCATION:324 S Mason Rd\, Creve Coeur\, MO 63141\, 324 S Mason Rd\, Creve Coeur\,\, M\, 63141\, United States
ATTACH;FMTTYPE=image/png:https://www.jfedstl.org/wp-content/uploads/2025/12/unnamed-13.png
ORGANIZER;CN="B'nai Amoona":MAILTO:sam@bnaiamoona.com
END:VEVENT
BEGIN:VEVENT
DTSTART;TZID=America/Chicago:20251217T114500
DTEND;TZID=America/Chicago:20251217T140000
DTSTAMP:20260425T160121
CREATED:20251114T154444Z
LAST-MODIFIED:20251114T154445Z
UID:10001347-1765971900-1765980000@www.jfedstl.org
SUMMARY:Hazak Hanukkah Hoopla
DESCRIPTION:Join us for a wonderful Hanukkah Hooplah with a festive lunch and games! This event costs only $10!
URL:https://www.jfedstl.org/event/hazak-hanukkah-hoopla/
LOCATION:324 S Mason Rd\, Creve Coeur\, MO 63141\, 324 S Mason Rd\, Creve Coeur\,\, M\, 63141\, United States
ATTACH;FMTTYPE=image/png:https://www.jfedstl.org/wp-content/uploads/2025/11/unnamed-9.png
ORGANIZER;CN="B'nai Amoona":MAILTO:sam@bnaiamoona.com
END:VEVENT
BEGIN:VEVENT
DTSTART;TZID=America/Chicago:20251216T100000
DTEND;TZID=America/Chicago:20251216T110000
DTSTAMP:20260425T160121
CREATED:20251124T145926Z
LAST-MODIFIED:20251124T150042Z
UID:10001408-1765879200-1765882800@www.jfedstl.org
SUMMARY:Hazak - Grief Group December 2025
DESCRIPTION:Tuesdays in December\, beginning December 2 \n\n\n\nJoin Jay Winig\, LCSW\, and Rabbi Skoff for a grief support group\, open to all members of the community who have suffered a loss\, and geared towards age 60+. We will be meeting 10:00 – 11:00 am on each of the 5 Tuesdays in December\, beginning December 2. \n\n\n\nParticipation is free\, and you are welcome to attend one or all sessions. \n\n\n\nClick here to learn more about Jay Winig’s counseling practice: https://www.winigcounseling.com/about-jay.html \n\n\n\nContact Rabbi Skoff if you have any questions. \n\n\n\nFor registration assistance\, contact Joshua Soto at 314-576-9990 x142 or at joshua@bnaiamoona.com. \n\n\n\nRSVP here: https://www.bnaiamoona.com/form/hazak-grief-group \n\n\n\nHazak is supported by a grant from Women’s Auxiliary Foundation for Jewish Aged & the JCA Charitable Foundation
URL:https://www.jfedstl.org/event/hazak-grief-group-december-2025/2025-12-16/
LOCATION:Congregation B’nai Amoona\, 324 S. Mason Road\, St. Louis\, MO
ATTACH;FMTTYPE=image/png:https://www.jfedstl.org/wp-content/uploads/2025/11/unnamed-10-1.png
ORGANIZER;CN="B'nai Amoona":MAILTO:sam@bnaiamoona.com
END:VEVENT
BEGIN:VEVENT
DTSTART;TZID=America/Chicago:20251214T160000
DTEND;TZID=America/Chicago:20251214T180000
DTSTAMP:20260425T160121
CREATED:20251114T155025Z
LAST-MODIFIED:20251114T155026Z
UID:10001343-1765728000-1765735200@www.jfedstl.org
SUMMARY:Share the Light for Hanukkah's First Night!
DESCRIPTION:Celebrate the first night of Hanukkah with bounce houses\, bingo with Men’s Club\, Carver House gift wrap\, and a delicious breakfast for dinner–including latkes! The Hanukkiah lighting will take place at 5:00pm.
URL:https://www.jfedstl.org/event/share-the-light-for-hanukkahs-first-night/
LOCATION:324 S Mason Rd\, Creve Coeur\, MO 63141\, 324 S Mason Rd\, Creve Coeur\,\, M\, 63141\, United States
ATTACH;FMTTYPE=image/png:https://www.jfedstl.org/wp-content/uploads/2025/11/unnamed-6.png
ORGANIZER;CN="B'nai Amoona":MAILTO:sam@bnaiamoona.com
END:VEVENT
BEGIN:VEVENT
DTSTART;TZID=America/Chicago:20251213T190000
DTEND;TZID=America/Chicago:20251213T210000
DTSTAMP:20260425T160121
CREATED:20251111T150058Z
LAST-MODIFIED:20251111T150059Z
UID:10001328-1765652400-1765659600@www.jfedstl.org
SUMMARY:Chaiway 30s\, 40s\, and 50s Pre-Hanukkah Potluck Dinner and White Elephant Gift Exchange
DESCRIPTION:Calling all 30s\, 40s and 50-somethings! Join us for an exciting potluck dinner and white elephant gift exchange to ring in the Hanukkah spirit! Remember to bring a gift and a dish!\n\nClick the link below to register and for event location:\n\nhttps://www.bnaiamoona.com/form/CPotluck25
URL:https://www.jfedstl.org/event/chaiway-30s-40s-and-50s-pre-hanukkah-potluck-dinner-and-white-elephant-gift-exchange/
LOCATION:Register for event location\, MO\, United States
CATEGORIES:Community Calendar
ATTACH;FMTTYPE=image/png:https://www.jfedstl.org/wp-content/uploads/2025/11/Chaiway-30s-40s-50s.png
ORGANIZER;CN="B'nai Amoona":MAILTO:sam@bnaiamoona.com
END:VEVENT
BEGIN:VEVENT
DTSTART;TZID=America/Chicago:20251209T100000
DTEND;TZID=America/Chicago:20251209T110000
DTSTAMP:20260425T160121
CREATED:20251124T145926Z
LAST-MODIFIED:20251124T150042Z
UID:10001407-1765274400-1765278000@www.jfedstl.org
SUMMARY:Hazak - Grief Group December 2025
DESCRIPTION:Tuesdays in December\, beginning December 2 \n\n\n\nJoin Jay Winig\, LCSW\, and Rabbi Skoff for a grief support group\, open to all members of the community who have suffered a loss\, and geared towards age 60+. We will be meeting 10:00 – 11:00 am on each of the 5 Tuesdays in December\, beginning December 2. \n\n\n\nParticipation is free\, and you are welcome to attend one or all sessions. \n\n\n\nClick here to learn more about Jay Winig’s counseling practice: https://www.winigcounseling.com/about-jay.html \n\n\n\nContact Rabbi Skoff if you have any questions. \n\n\n\nFor registration assistance\, contact Joshua Soto at 314-576-9990 x142 or at joshua@bnaiamoona.com. \n\n\n\nRSVP here: https://www.bnaiamoona.com/form/hazak-grief-group \n\n\n\nHazak is supported by a grant from Women’s Auxiliary Foundation for Jewish Aged & the JCA Charitable Foundation
URL:https://www.jfedstl.org/event/hazak-grief-group-december-2025/2025-12-09/
LOCATION:Congregation B’nai Amoona\, 324 S. Mason Road\, St. Louis\, MO
ATTACH;FMTTYPE=image/png:https://www.jfedstl.org/wp-content/uploads/2025/11/unnamed-10-1.png
ORGANIZER;CN="B'nai Amoona":MAILTO:sam@bnaiamoona.com
END:VEVENT
BEGIN:VEVENT
DTSTART;TZID=America/Chicago:20251207T100000
DTEND;TZID=America/Chicago:20251207T120000
DTSTAMP:20260425T160121
CREATED:20251202T203835Z
LAST-MODIFIED:20251202T203836Z
UID:10001454-1765101600-1765108800@www.jfedstl.org
SUMMARY:Emerging Artists Exhibition
DESCRIPTION:B’nai Amoona is proud to present Emerging Artists\, a vibrant new exhibition celebrating the creativity\, imagination\, and talent of our young artists. Featuring the work of Maple Fowler\, Zachary Nathanson\, Joey Abraham\, and Samuel Weisenberg\, this special gallery showcase highlights the unique perspectives and artistic voices of four incredible students from our community.\n\nFrom December 7\, 2025 through January 10\, 2026\, visitors are invited to explore a colorful and inspiring collection of drawings\, paintings\, sculpture\, and mixed media pieces\, each one a reflection of the passion and originality these young creators bring to their craft.\n\nWe will kick off the exhibition with a Reception on Sunday\, December 7 from 10:00 to 11:30 a.m. located in the Krupat-Oberman Community Room\, where guests can meet the artists.\n\nJoin us as we uplift and honor the next generation of Jewish artists at B’nai Amoona!
URL:https://www.jfedstl.org/event/emerging-artists-exhibition/
LOCATION:324 S Mason Rd\, Creve Coeur\, MO 63141\, 324 S Mason Rd\, Creve Coeur\,\, M\, 63141\, United States
ATTACH;FMTTYPE=image/png:https://www.jfedstl.org/wp-content/uploads/2025/12/unnamed-12.png
ORGANIZER;CN="B'nai Amoona":MAILTO:sam@bnaiamoona.com
END:VEVENT
BEGIN:VEVENT
DTSTART;TZID=America/Chicago:20251206T173000
DTEND;TZID=America/Chicago:20251206T203000
DTSTAMP:20260425T160121
CREATED:20251114T154747Z
LAST-MODIFIED:20251118T174401Z
UID:10001345-1765042200-1765053000@www.jfedstl.org
SUMMARY:Scholar in Residence Weekend With Rabbi Gershom Sizomu
DESCRIPTION:On Shabbat morning\, Rabbi Gershom Sizomu will deliver the D’var Torah on “Torah from Africa.” After Kiddush lunch\, he will lead a Lunch and Learn titled “Jewish Peoplehood: The Importance of Shared Values\, Unique Perspectives\, and Real Relationships.” \nAfter Havdallah\, join us for hors d’oeuvres followed by a special presentation in the library\, “Resilience and Renewal: The Unique History of the Abayudaya Jewish Community of Uganda\,” featuring videos and slides that bring the story to life.
URL:https://www.jfedstl.org/event/scholar-in-residence-weekend-with-rabbi-gershom-sizomu/
LOCATION:324 S Mason Rd\, Creve Coeur\, MO 63141\, 324 S Mason Rd\, Creve Coeur\,\, M\, 63141\, United States
ATTACH;FMTTYPE=image/png:https://www.jfedstl.org/wp-content/uploads/2025/11/unnamed-7-1.png
ORGANIZER;CN="B'nai Amoona":MAILTO:sam@bnaiamoona.com
END:VEVENT
BEGIN:VEVENT
DTSTART;TZID=America/Chicago:20251205T180000
DTEND;TZID=America/Chicago:20251205T200000
DTSTAMP:20260425T160121
CREATED:20251114T154910Z
LAST-MODIFIED:20251118T174328Z
UID:10001344-1764957600-1764964800@www.jfedstl.org
SUMMARY:Scholar in Residence Weekend With Rabbi Gershom Sizomu
DESCRIPTION:December 5 \nJoin us for an unforgettable Scholar-in-Residence Weekend with Rabbi Gershom Sizomu\, Chief Rabbi of the Abayudaya Jewish Community of Uganda. \nOn Friday night\, December 5\, Rabbi Gershom will lead Kabbalat Shabbat services\, featuring the beautiful music of the Abayudaya community. Following services\, the congregation will gather for a Shabbat dinner together. After dinner\, Rabbi Gershom will present an engaging session\, covering the topics: “Storytelling: Illuminating Tales from the Lives of the Abayudaya” and “The Intersections of Biography and History: Rabbi Gershom’s Life Story.”
URL:https://www.jfedstl.org/event/scholar-in-residence-weekend-with-rabbi-gershom-sizomu-2/
LOCATION:324 S Mason Rd\, Creve Coeur\, MO 63141\, 324 S Mason Rd\, Creve Coeur\,\, M\, 63141\, United States
ATTACH;FMTTYPE=image/png:https://www.jfedstl.org/wp-content/uploads/2025/11/unnamed-7.png
ORGANIZER;CN="B'nai Amoona":MAILTO:sam@bnaiamoona.com
END:VEVENT
BEGIN:VEVENT
DTSTART;TZID=America/Chicago:20251202T100000
DTEND;TZID=America/Chicago:20251202T110000
DTSTAMP:20260425T160121
CREATED:20251124T145926Z
LAST-MODIFIED:20251124T150042Z
UID:10001406-1764669600-1764673200@www.jfedstl.org
SUMMARY:Hazak - Grief Group December 2025
DESCRIPTION:Tuesdays in December\, beginning December 2 \n\n\n\nJoin Jay Winig\, LCSW\, and Rabbi Skoff for a grief support group\, open to all members of the community who have suffered a loss\, and geared towards age 60+. We will be meeting 10:00 – 11:00 am on each of the 5 Tuesdays in December\, beginning December 2. \n\n\n\nParticipation is free\, and you are welcome to attend one or all sessions. \n\n\n\nClick here to learn more about Jay Winig’s counseling practice: https://www.winigcounseling.com/about-jay.html \n\n\n\nContact Rabbi Skoff if you have any questions. \n\n\n\nFor registration assistance\, contact Joshua Soto at 314-576-9990 x142 or at joshua@bnaiamoona.com. \n\n\n\nRSVP here: https://www.bnaiamoona.com/form/hazak-grief-group \n\n\n\nHazak is supported by a grant from Women’s Auxiliary Foundation for Jewish Aged & the JCA Charitable Foundation
URL:https://www.jfedstl.org/event/hazak-grief-group-december-2025/2025-12-02/
LOCATION:Congregation B’nai Amoona\, 324 S. Mason Road\, St. Louis\, MO
ATTACH;FMTTYPE=image/png:https://www.jfedstl.org/wp-content/uploads/2025/11/unnamed-10-1.png
ORGANIZER;CN="B'nai Amoona":MAILTO:sam@bnaiamoona.com
END:VEVENT
BEGIN:VEVENT
DTSTART;TZID=America/Chicago:20251201T190000
DTEND;TZID=America/Chicago:20251201T203000
DTSTAMP:20260425T160121
CREATED:20251111T145818Z
LAST-MODIFIED:20251111T145918Z
UID:10001329-1764615600-1764621000@www.jfedstl.org
SUMMARY:Five Years of the Abraham Accords:  Advancing Peace\, Countering Hate
DESCRIPTION:Join us for a powerful and timely conversation with young leaders from Sharaka\, a groundbreaking initiative fostering understanding and partnership between Arabs and Israelis. No RSVP necessary. \nThis event is in parternship with Sharaka and Stand With Us.
URL:https://www.jfedstl.org/event/five-years-of-the-abraham-accords-advancing-peace-countering-hate/
LOCATION:324 S Mason Rd\, Creve Coeur\, MO 63141\, 324 S Mason Rd\, Creve Coeur\,\, M\, 63141\, United States
ATTACH;FMTTYPE=image/png:https://www.jfedstl.org/wp-content/uploads/2025/11/unnamed-5.png
ORGANIZER;CN="B'nai Amoona":MAILTO:sam@bnaiamoona.com
END:VEVENT
BEGIN:VEVENT
DTSTART;TZID=America/Chicago:20251021T190000
DTEND;TZID=America/Chicago:20251021T203000
DTSTAMP:20260425T160121
CREATED:20250812T005644Z
LAST-MODIFIED:20250907T234341Z
UID:10000423-1761073200-1761078600@www.jfedstl.org
SUMMARY:JNF-USA Speaker\, Naftali Aklum
DESCRIPTION:Naftali Aklum is the CEO of Yerus\, an educational workshop and touring company that highlights the cultural heritage and narrative of Israel’s Ethiopian Jewish community. \n\n\n\nBorn in Ethiopia in 1979\, he immigrated to Israel as an infant in 1980 with his family. He grew up in Be’er Sheva with a strong appreciation for Israel’s cultural diversity. After serving in the IDF as a firefighter\, he studied politics\, government\, history\, and Middle Eastern studies at Ben-Gurion University of the Negev.
URL:https://www.jfedstl.org/event/jfn-speaker-naftali-aklum/
LOCATION:324 S Mason Rd\, Creve Coeur\, MO 63141\, 324 S Mason Rd\, Creve Coeur\,\, M\, 63141\, United States
CATEGORIES:Community Calendar
END:VEVENT
BEGIN:VEVENT
DTSTART;TZID=America/Chicago:20250921T090000
DTEND;TZID=America/Chicago:20250921T113000
DTSTAMP:20260425T160121
CREATED:20250822T224740Z
LAST-MODIFIED:20250908T030401Z
UID:10000865-1758445200-1758454200@www.jfedstl.org
SUMMARY:Community Wide Congregational Apple Picking!
DESCRIPTION:Prepare for Rosh Hashanah by joining us for community wide Congregational Apple Picking at Eckert’s Farm! \n\n\n\nSign up here!
URL:https://www.jfedstl.org/event/community-wide-congregational-apple-picking/
LOCATION:324 S Mason Rd\, Creve Coeur\, MO 63141\, 324 S Mason Rd\, Creve Coeur\,\, M\, 63141\, United States
CATEGORIES:Community Calendar
ATTACH;FMTTYPE=image/png:https://www.jfedstl.org/wp-content/uploads/2025/09/applepicking3.png
END:VEVENT
BEGIN:VEVENT
DTSTART;TZID=America/Chicago:20250913T183000
DTEND;TZID=America/Chicago:20250913T230000
DTSTAMP:20260425T160121
CREATED:20250822T223604Z
LAST-MODIFIED:20250908T033840Z
UID:10000883-1757788200-1757804400@www.jfedstl.org
SUMMARY:Pre-Selichot discussion with Evelyn Eggers\, Midwest Regional Director for Israel on Campus Coalition
DESCRIPTION:Get ready for the High Holy Days with a beautiful musical Selichot Service and discussion with Evelyn Eggers\, the Midwest Regional Director for Israel Campus Coalition! \n\n\n\nAs Midwest Director\, Evelyn combines her passion for education\, policy\, and Zionism to support Jewish and non-Jewish pro-Israel students on college campuses across the Midwest\, with a special focus on those in the St. Louis region. \n\n\n\nThis evening is in partnership with Traditional Congregation.
URL:https://www.jfedstl.org/event/pre-selichot-discussion-with-evelyn-eggers-midwest-regional-director-for-israel-on-campus-coalition/
LOCATION:324 S Mason Rd\, Creve Coeur\, MO 63141\, 324 S Mason Rd\, Creve Coeur\,\, M\, 63141\, United States
CATEGORIES:Community Calendar
ATTACH;FMTTYPE=image/png:https://www.jfedstl.org/wp-content/uploads/2025/09/unnamed-2.png
END:VEVENT
BEGIN:VEVENT
DTSTART;TZID=America/Chicago:20250817T140000
DTEND;TZID=America/Chicago:20250817T160000
DTSTAMP:20260425T160121
CREATED:20250812T005654Z
LAST-MODIFIED:20250908T000959Z
UID:10000497-1755439200-1755446400@www.jfedstl.org
SUMMARY:Artist Reception
DESCRIPTION:Our Fall Art Exhibit begins this weekend\, and you won’t want to miss the extraordinary works of Cheri Hoffman\, Beverly Aroh\, Jerry Summers\, Cindy Larimore\, Dale Dicker\, and Lisa Korenblat\, on display from August 17 through November 8. \n\n\n\nClick on the names below to read the bios of each artist: \n\n\n\nCheri \n\n\n\nDale \n\n\n\nBeverly \n\n\n\nCindy \n\n\n\nJerry \n\n\n\nLisa \n\n\n\nThe exhibit kicks off with a reception on Sunday\, August 17th from 2:00pm – 4:00pm at B’nai Amoona. Light refreshments will be served! \n\n\n\nHope to see you there!
URL:https://www.jfedstl.org/event/artist-reception/
LOCATION:324 S Mason Rd\, Creve Coeur\, MO 63141\, 324 S Mason Rd\, Creve Coeur\,\, M\, 63141\, United States
CATEGORIES:Community Calendar
ATTACH;FMTTYPE=image/png:https://www.jfedstl.org/wp-content/uploads/2025/09/Art-Gallery-Poster-gallery-FALL-25.png
END:VEVENT
END:VCALENDAR