BEGIN:VCALENDAR
VERSION:2.0
PRODID:-//Jewish Federation of St. Louis - ECPv6.15.20//NONSGML v1.0//EN
CALSCALE:GREGORIAN
METHOD:PUBLISH
X-WR-CALNAME:Jewish Federation of St. Louis
X-ORIGINAL-URL:https://www.jfedstl.org
X-WR-CALDESC:Events for Jewish Federation of St. Louis
REFRESH-INTERVAL;VALUE=DURATION:PT1H
X-Robots-Tag:noindex
X-PUBLISHED-TTL:PT1H
BEGIN:VTIMEZONE
TZID:America/Chicago
BEGIN:DAYLIGHT
TZOFFSETFROM:-0600
TZOFFSETTO:-0500
TZNAME:CDT
DTSTART:20240310T080000
END:DAYLIGHT
BEGIN:STANDARD
TZOFFSETFROM:-0500
TZOFFSETTO:-0600
TZNAME:CST
DTSTART:20241103T070000
END:STANDARD
BEGIN:DAYLIGHT
TZOFFSETFROM:-0600
TZOFFSETTO:-0500
TZNAME:CDT
DTSTART:20250309T080000
END:DAYLIGHT
BEGIN:STANDARD
TZOFFSETFROM:-0500
TZOFFSETTO:-0600
TZNAME:CST
DTSTART:20251102T070000
END:STANDARD
BEGIN:DAYLIGHT
TZOFFSETFROM:-0600
TZOFFSETTO:-0500
TZNAME:CDT
DTSTART:20260308T080000
END:DAYLIGHT
BEGIN:STANDARD
TZOFFSETFROM:-0500
TZOFFSETTO:-0600
TZNAME:CST
DTSTART:20261101T070000
END:STANDARD
END:VTIMEZONE
BEGIN:VEVENT
DTSTART;TZID=America/Chicago:20251101T000000
DTEND;TZID=America/Chicago:20251109T232959
DTSTAMP:20260422T041331
CREATED:20250907T061040Z
LAST-MODIFIED:20251021T195820Z
UID:5189-1761955200-1762730999@www.jfedstl.org
SUMMARY:St. Louis Jewish Book Festival
DESCRIPTION:
URL:https://www.jfedstl.org/event/st-louis-jewish-book-festival-2025/
LOCATION:JCC Arts & Education Building – Creve Coeur\, 2 Millstone Campus Dr.\, St. Louis\, 63146\, United States
CATEGORIES:Community Calendar
ATTACH;FMTTYPE=image/jpeg:https://www.jfedstl.org/wp-content/uploads/2025/09/JBF-logo_UPDATE-7.jpg
ORGANIZER;CN="The Jewish Community Center of St. Louis":MAILTO:boxoffice@jccstl.org
END:VEVENT
END:VCALENDAR