BEGIN:VCALENDAR
VERSION:2.0
PRODID:-//Jewish Federation of St. Louis - ECPv6.15.20//NONSGML v1.0//EN
CALSCALE:GREGORIAN
METHOD:PUBLISH
X-WR-CALNAME:Jewish Federation of St. Louis
X-ORIGINAL-URL:https://www.jfedstl.org
X-WR-CALDESC:Events for Jewish Federation of St. Louis
REFRESH-INTERVAL;VALUE=DURATION:PT1H
X-Robots-Tag:noindex
X-PUBLISHED-TTL:PT1H
BEGIN:VTIMEZONE
TZID:America/Chicago
BEGIN:DAYLIGHT
TZOFFSETFROM:-0600
TZOFFSETTO:-0500
TZNAME:CDT
DTSTART:20250309T080000
END:DAYLIGHT
BEGIN:STANDARD
TZOFFSETFROM:-0500
TZOFFSETTO:-0600
TZNAME:CST
DTSTART:20251102T070000
END:STANDARD
BEGIN:DAYLIGHT
TZOFFSETFROM:-0600
TZOFFSETTO:-0500
TZNAME:CDT
DTSTART:20260308T080000
END:DAYLIGHT
BEGIN:STANDARD
TZOFFSETFROM:-0500
TZOFFSETTO:-0600
TZNAME:CST
DTSTART:20261101T070000
END:STANDARD
BEGIN:DAYLIGHT
TZOFFSETFROM:-0600
TZOFFSETTO:-0500
TZNAME:CDT
DTSTART:20270314T080000
END:DAYLIGHT
BEGIN:STANDARD
TZOFFSETFROM:-0500
TZOFFSETTO:-0600
TZNAME:CST
DTSTART:20271107T070000
END:STANDARD
END:VTIMEZONE
BEGIN:VEVENT
DTSTART;TZID=America/Chicago:20260201T170000
DTEND;TZID=America/Chicago:20260201T190000
DTSTAMP:20260425T160137
CREATED:20260110T162152Z
LAST-MODIFIED:20260110T162153Z
UID:10561-1769965200-1769972400@www.jfedstl.org
SUMMARY:Sips & Schmooze:  An Israeli Wine Tasting to Celebrate TuB'shevat
DESCRIPTION:Join us for Sips & Schmooze: An Israeli Wine Tasting to Celebrate Tu B’Shevat\, featuring our special weekend visitor\, educator Steve Kerbel. \n\n\n\nTogether\, we’ll explore the meaning of Tu B’Shevat while tasting wines from across Israel and learning about the country’s rich and growing wine culture. Steve will take us on a virtual journey through Israel’s geography\, wineries\, and winemakers. (He’s visited more than 140 of Israel’s 300+ wineries!) \n\n\n\nGuests will also have the opportunity to purchase wines following the tasting to enjoy at their Pesach Seder. \n\n\n\nRegistration required.
URL:https://www.jfedstl.org/event/sips-schmooze-an-israeli-wine-tasting-to-celebrate-tubshevat/
LOCATION:Congregation B’nai Amoona\, 324 S. Mason Road\, St. Louis\, MO
ATTACH;FMTTYPE=image/png:https://www.jfedstl.org/wp-content/uploads/2026/01/Sips-Schmooze-Website.png
ORGANIZER;CN="B'nai Amoona":MAILTO:sam@bnaiamoona.com
END:VEVENT
END:VCALENDAR