BEGIN:VCALENDAR
VERSION:2.0
PRODID:-//Jewish Federation of St. Louis - ECPv6.15.20//NONSGML v1.0//EN
CALSCALE:GREGORIAN
METHOD:PUBLISH
X-WR-CALNAME:Jewish Federation of St. Louis
X-ORIGINAL-URL:https://www.jfedstl.org
X-WR-CALDESC:Events for Jewish Federation of St. Louis
REFRESH-INTERVAL;VALUE=DURATION:PT1H
X-Robots-Tag:noindex
X-PUBLISHED-TTL:PT1H
BEGIN:VTIMEZONE
TZID:America/Chicago
BEGIN:DAYLIGHT
TZOFFSETFROM:-0600
TZOFFSETTO:-0500
TZNAME:CDT
DTSTART:20240310T080000
END:DAYLIGHT
BEGIN:STANDARD
TZOFFSETFROM:-0500
TZOFFSETTO:-0600
TZNAME:CST
DTSTART:20241103T070000
END:STANDARD
BEGIN:DAYLIGHT
TZOFFSETFROM:-0600
TZOFFSETTO:-0500
TZNAME:CDT
DTSTART:20250309T080000
END:DAYLIGHT
BEGIN:STANDARD
TZOFFSETFROM:-0500
TZOFFSETTO:-0600
TZNAME:CST
DTSTART:20251102T070000
END:STANDARD
BEGIN:DAYLIGHT
TZOFFSETFROM:-0600
TZOFFSETTO:-0500
TZNAME:CDT
DTSTART:20260308T080000
END:DAYLIGHT
BEGIN:STANDARD
TZOFFSETFROM:-0500
TZOFFSETTO:-0600
TZNAME:CST
DTSTART:20261101T070000
END:STANDARD
END:VTIMEZONE
BEGIN:VEVENT
DTSTART;TZID=America/Chicago:20250725T181500
DTEND;TZID=America/Chicago:20250725T200000
DTSTAMP:20260424T105647
CREATED:20250719T004150Z
LAST-MODIFIED:20250908T060200Z
UID:4849-1753467300-1753473600@www.jfedstl.org
SUMMARY:Shabbat Dinner with Tzivya Katsman
DESCRIPTION:Join us for Kabbalat Shabbat at 7p. Dinner will begin around 8 and be followed by a talk from Tzivya Katsman\, “The Life and Worldview of Hayim Katsman z”l” Hayim Katsman\, PhD\, an American-Israeli lecturer on philosophy\, politics and Israeli society\, was killed in Kibbutz Holit on October 7\, 2023. \n\n\n\nDinner will be chicken with rice\, Asian green beans\, and mixed roasted vegetables with potatoes. A vegan entree will be provided upon request.
URL:https://www.jfedstl.org/event/shabbat-dinner-with-tzivya-katsman/
LOCATION:Bais Abraham Congregation\, 6910 Delmar Bivd\, St. Louis\, 63130\, United States
CATEGORIES:Community Calendar
ATTACH;FMTTYPE=image/png:https://www.jfedstl.org/wp-content/uploads/2025/07/July25DinnerAd.png
END:VEVENT
END:VCALENDAR