BEGIN:VCALENDAR
VERSION:2.0
PRODID:-//Jewish Federation of St. Louis - ECPv6.15.20//NONSGML v1.0//EN
CALSCALE:GREGORIAN
METHOD:PUBLISH
X-WR-CALNAME:Jewish Federation of St. Louis
X-ORIGINAL-URL:https://www.jfedstl.org
X-WR-CALDESC:Events for Jewish Federation of St. Louis
REFRESH-INTERVAL;VALUE=DURATION:PT1H
X-Robots-Tag:noindex
X-PUBLISHED-TTL:PT1H
BEGIN:VTIMEZONE
TZID:America/Chicago
BEGIN:DAYLIGHT
TZOFFSETFROM:-0600
TZOFFSETTO:-0500
TZNAME:CDT
DTSTART:20250309T080000
END:DAYLIGHT
BEGIN:STANDARD
TZOFFSETFROM:-0500
TZOFFSETTO:-0600
TZNAME:CST
DTSTART:20251102T070000
END:STANDARD
BEGIN:DAYLIGHT
TZOFFSETFROM:-0600
TZOFFSETTO:-0500
TZNAME:CDT
DTSTART:20260308T080000
END:DAYLIGHT
BEGIN:STANDARD
TZOFFSETFROM:-0500
TZOFFSETTO:-0600
TZNAME:CST
DTSTART:20261101T070000
END:STANDARD
BEGIN:DAYLIGHT
TZOFFSETFROM:-0600
TZOFFSETTO:-0500
TZNAME:CDT
DTSTART:20270314T080000
END:DAYLIGHT
BEGIN:STANDARD
TZOFFSETFROM:-0500
TZOFFSETTO:-0600
TZNAME:CST
DTSTART:20271107T070000
END:STANDARD
END:VTIMEZONE
BEGIN:VEVENT
DTSTART;TZID=America/Chicago:20260317T150000
DTEND;TZID=America/Chicago:20260317T210000
DTSTAMP:20260421T025323
CREATED:20250907T013951Z
LAST-MODIFIED:20250907T014133Z
UID:5089-1773759600-1773781200@www.jfedstl.org
SUMMARY:Jewish Film Festival Day 2
DESCRIPTION:3pm and 7pm feature films
URL:https://www.jfedstl.org/event/jewish-film-festival-day-2/
LOCATION:B&B Theatres Creve Coeur West Olive 10 and Bowling\, 12657 Olive Blvd\, Creve Coeur\, MO\, 63141
CATEGORIES:Community Calendar
ATTACH;FMTTYPE=image/png:https://www.jfedstl.org/wp-content/uploads/2025/09/3412_Jewish-Film-Festiva-30-Years-LOGO_WHITE-1.png
ORGANIZER;CN="The Jewish Community Center of St. Louis":MAILTO:boxoffice@jccstl.org
END:VEVENT
END:VCALENDAR