BEGIN:VCALENDAR
VERSION:2.0
PRODID:-//Jewish Federation of St. Louis - ECPv6.15.20//NONSGML v1.0//EN
CALSCALE:GREGORIAN
METHOD:PUBLISH
X-WR-CALNAME:Jewish Federation of St. Louis
X-ORIGINAL-URL:https://www.jfedstl.org
X-WR-CALDESC:Events for Jewish Federation of St. Louis
REFRESH-INTERVAL;VALUE=DURATION:PT1H
X-Robots-Tag:noindex
X-PUBLISHED-TTL:PT1H
BEGIN:VTIMEZONE
TZID:America/Chicago
BEGIN:DAYLIGHT
TZOFFSETFROM:-0600
TZOFFSETTO:-0500
TZNAME:CDT
DTSTART:20240310T080000
END:DAYLIGHT
BEGIN:STANDARD
TZOFFSETFROM:-0500
TZOFFSETTO:-0600
TZNAME:CST
DTSTART:20241103T070000
END:STANDARD
BEGIN:DAYLIGHT
TZOFFSETFROM:-0600
TZOFFSETTO:-0500
TZNAME:CDT
DTSTART:20250309T080000
END:DAYLIGHT
BEGIN:STANDARD
TZOFFSETFROM:-0500
TZOFFSETTO:-0600
TZNAME:CST
DTSTART:20251102T070000
END:STANDARD
BEGIN:DAYLIGHT
TZOFFSETFROM:-0600
TZOFFSETTO:-0500
TZNAME:CDT
DTSTART:20260308T080000
END:DAYLIGHT
BEGIN:STANDARD
TZOFFSETFROM:-0500
TZOFFSETTO:-0600
TZNAME:CST
DTSTART:20261101T070000
END:STANDARD
END:VTIMEZONE
BEGIN:VEVENT
DTSTART;TZID=America/Chicago:20250817T120000
DTEND;TZID=America/Chicago:20250817T140000
DTSTAMP:20260424T105808
CREATED:20250719T004008Z
LAST-MODIFIED:20250908T000814Z
UID:4926-1755432000-1755439200@www.jfedstl.org
SUMMARY:End of Summer BBQ and Garden Dedication
DESCRIPTION:Join us in the backyard! We will dedicate the beautiful raised garden bed in memory of Jessica Friedlander z”l. We will have Impossible burgers(v)\, hot dogs\, chips and salads included in the purchase of lunch. Popsicles will be available to all. Come out and play!
URL:https://www.jfedstl.org/event/end-of-summer-bbq-and-garden-dedication/
LOCATION:Bais Abraham Congregation\, 6910 Delmar Bivd\, St. Louis\, 63130\, United States
CATEGORIES:Community Calendar
ATTACH;FMTTYPE=image/png:https://www.jfedstl.org/wp-content/uploads/2025/09/BBQ2025.png
END:VEVENT
END:VCALENDAR